BEGIN:VCALENDAR
VERSION:2.0
PRODID:-//PKV &quot;Ons Genoegen&quot;  - ECPv6.15.20//NONSGML v1.0//EN
CALSCALE:GREGORIAN
METHOD:PUBLISH
X-ORIGINAL-URL:https://www.pkvonsgenoegencoevorden.nl
X-WR-CALDESC:Evenementen voor PKV &quot;Ons Genoegen&quot; 
REFRESH-INTERVAL;VALUE=DURATION:PT1H
X-Robots-Tag:noindex
X-PUBLISHED-TTL:PT1H
BEGIN:VTIMEZONE
TZID:Europe/Amsterdam
BEGIN:DAYLIGHT
TZOFFSETFROM:+0100
TZOFFSETTO:+0200
TZNAME:CEST
DTSTART:20210328T010000
END:DAYLIGHT
BEGIN:STANDARD
TZOFFSETFROM:+0200
TZOFFSETTO:+0100
TZNAME:CET
DTSTART:20211031T010000
END:STANDARD
BEGIN:DAYLIGHT
TZOFFSETFROM:+0100
TZOFFSETTO:+0200
TZNAME:CEST
DTSTART:20220327T010000
END:DAYLIGHT
BEGIN:STANDARD
TZOFFSETFROM:+0200
TZOFFSETTO:+0100
TZNAME:CET
DTSTART:20221030T010000
END:STANDARD
BEGIN:DAYLIGHT
TZOFFSETFROM:+0100
TZOFFSETTO:+0200
TZNAME:CEST
DTSTART:20230326T010000
END:DAYLIGHT
BEGIN:STANDARD
TZOFFSETFROM:+0200
TZOFFSETTO:+0100
TZNAME:CET
DTSTART:20231029T010000
END:STANDARD
BEGIN:DAYLIGHT
TZOFFSETFROM:+0100
TZOFFSETTO:+0200
TZNAME:CEST
DTSTART:20240331T010000
END:DAYLIGHT
BEGIN:STANDARD
TZOFFSETFROM:+0200
TZOFFSETTO:+0100
TZNAME:CET
DTSTART:20241027T010000
END:STANDARD
BEGIN:DAYLIGHT
TZOFFSETFROM:+0100
TZOFFSETTO:+0200
TZNAME:CEST
DTSTART:20250330T010000
END:DAYLIGHT
BEGIN:STANDARD
TZOFFSETFROM:+0200
TZOFFSETTO:+0100
TZNAME:CET
DTSTART:20251026T010000
END:STANDARD
BEGIN:DAYLIGHT
TZOFFSETFROM:+0100
TZOFFSETTO:+0200
TZNAME:CEST
DTSTART:20260329T010000
END:DAYLIGHT
BEGIN:STANDARD
TZOFFSETFROM:+0200
TZOFFSETTO:+0100
TZNAME:CET
DTSTART:20261025T010000
END:STANDARD
BEGIN:DAYLIGHT
TZOFFSETFROM:+0100
TZOFFSETTO:+0200
TZNAME:CEST
DTSTART:20270328T010000
END:DAYLIGHT
BEGIN:STANDARD
TZOFFSETFROM:+0200
TZOFFSETTO:+0100
TZNAME:CET
DTSTART:20271031T010000
END:STANDARD
END:VTIMEZONE
BEGIN:VEVENT
DTSTART;TZID=Europe/Amsterdam:20260122T100000
DTEND;TZID=Europe/Amsterdam:20260124T170000
DTSTAMP:20260425T174231
CREATED:20250420T163531Z
LAST-MODIFIED:20250420T170705Z
UID:1538-1769076000-1769274000@www.pkvonsgenoegencoevorden.nl
SUMMARY:Dierenparade Noordshow 2026
DESCRIPTION:
URL:https://www.pkvonsgenoegencoevorden.nl/index.php/event/dierenpararde-noordshow-2026/
LOCATION:Hardenberg\, Engergieweg 2\, Hardenberg\, Overijssel\, 7772 TV\, Nederland
CATEGORIES:Landelijk
ORGANIZER;CN="Noordshow":MAILTO:secretaris@noordshow.nl
END:VEVENT
BEGIN:VEVENT
DTSTART;TZID=Europe/Amsterdam:20251218T080000
DTEND;TZID=Europe/Amsterdam:20251220T170000
DTSTAMP:20260425T174231
CREATED:20250827T102117Z
LAST-MODIFIED:20250827T102117Z
UID:1746-1766044800-1766250000@www.pkvonsgenoegencoevorden.nl
SUMMARY:Gelderlandshow
DESCRIPTION:
URL:https://www.pkvonsgenoegencoevorden.nl/index.php/event/gelderlandshow-3/
LOCATION:Nijmegen\, Nieuwe Dukenburgseweg 5\, Nijmegen\, Gelderland\, 6534AD\, Nederland
CATEGORIES:Landelijk
END:VEVENT
BEGIN:VEVENT
DTSTART;TZID=Europe/Amsterdam:20251206T080000
DTEND;TZID=Europe/Amsterdam:20251206T170000
DTSTAMP:20260425T174231
CREATED:20250827T101732Z
LAST-MODIFIED:20250827T101732Z
UID:1742-1765008000-1765040400@www.pkvonsgenoegencoevorden.nl
SUMMARY:Noord Drenthe Show
DESCRIPTION:
URL:https://www.pkvonsgenoegencoevorden.nl/index.php/event/noord-drenthe-show-2/
LOCATION:Norg\, Kerkpad 4\, Norg\, Drenthe\, 9331 AC\, Netherlands
CATEGORIES:Landelijk,Regionaal
END:VEVENT
BEGIN:VEVENT
DTSTART;TZID=Europe/Amsterdam:20251205T080000
DTEND;TZID=Europe/Amsterdam:20251206T170000
DTSTAMP:20260425T174231
CREATED:20250827T101242Z
LAST-MODIFIED:20250827T101242Z
UID:1737-1764921600-1765040400@www.pkvonsgenoegencoevorden.nl
SUMMARY:Oneto / Bondsshow Regio Oost
DESCRIPTION:
URL:https://www.pkvonsgenoegencoevorden.nl/index.php/event/oneto-bondsshow-regio-oost/
LOCATION:Haaksbergen\, De Bouwmeester 6\, Haaksbergen\, 7481 LP\, Netherlands
CATEGORIES:Landelijk,Regionaal
END:VEVENT
BEGIN:VEVENT
DTSTART;TZID=Europe/Amsterdam:20251127T080000
DTEND;TZID=Europe/Amsterdam:20251129T170000
DTSTAMP:20260425T174231
CREATED:20250827T102828Z
LAST-MODIFIED:20250827T102828Z
UID:1752-1764230400-1764435600@www.pkvonsgenoegencoevorden.nl
SUMMARY:Keistadshow
DESCRIPTION:
URL:https://www.pkvonsgenoegencoevorden.nl/index.php/event/keistadshow-3/
LOCATION:Amersfoort\, Trompetstraat 3\, Amsersfoort\, Utrecht\, 3822 CK\, Nederland
CATEGORIES:Landelijk
ORGANIZER;CN="SAO":MAILTO:keistadshow@sierduif.nl
END:VEVENT
BEGIN:VEVENT
DTSTART;TZID=Europe/Amsterdam:20251031T080000
DTEND;TZID=Europe/Amsterdam:20251101T170000
DTSTAMP:20260425T174231
CREATED:20250827T093555Z
LAST-MODIFIED:20250827T095145Z
UID:1721-1761897600-1762016400@www.pkvonsgenoegencoevorden.nl
SUMMARY:SNN/Waterpoortshow/SWF
DESCRIPTION:
URL:https://www.pkvonsgenoegencoevorden.nl/index.php/event/snn-waterpoortshow-swf/
LOCATION:Sneek\, Lange Veemarktstraat 11\, Sneek\, Friesland\, 8601ET\, Nederland
CATEGORIES:Landelijk,Regionaal
END:VEVENT
BEGIN:VEVENT
DTSTART;TZID=Europe/Amsterdam:20250116T100000
DTEND;TZID=Europe/Amsterdam:20250118T160000
DTSTAMP:20260425T174231
CREATED:20240128T124425Z
LAST-MODIFIED:20240128T125814Z
UID:1373-1737021600-1737216000@www.pkvonsgenoegencoevorden.nl
SUMMARY:Dierenparade Noordshow
DESCRIPTION:
URL:https://www.pkvonsgenoegencoevorden.nl/index.php/event/dierenparade-noordshow-2-2/
LOCATION:Hardenberg\, Engergieweg 2\, Hardenberg\, Overijssel\, 7772 TV\, Nederland
CATEGORIES:Landelijk
ORGANIZER;CN="Noordshow":MAILTO:secretaris@noordshow.nl
END:VEVENT
BEGIN:VEVENT
DTSTART;TZID=Europe/Amsterdam:20241219T100000
DTEND;TZID=Europe/Amsterdam:20241221T160000
DTSTAMP:20260425T174231
CREATED:20240128T123651Z
LAST-MODIFIED:20240128T123651Z
UID:1369-1734602400-1734796800@www.pkvonsgenoegencoevorden.nl
SUMMARY:Gelderlandshow
DESCRIPTION:De Gelderlandshow 2024 zal worden gehouden op donderdag 19 t/m zaterdag 21 december in de Jan Massinkhal in Nijmegen.
URL:https://www.pkvonsgenoegencoevorden.nl/index.php/event/gelderlandshow-2-2/
LOCATION:Nijmegen\, Nieuwe Dukenburgseweg 5\, Nijmegen\, Gelderland\, 6534AD\, Nederland
CATEGORIES:Landelijk
END:VEVENT
BEGIN:VEVENT
DTSTART;TZID=Europe/Amsterdam:20241128T100000
DTEND;TZID=Europe/Amsterdam:20241130T160000
DTSTAMP:20260425T174231
CREATED:20240128T124132Z
LAST-MODIFIED:20240128T125901Z
UID:1371-1732788000-1732982400@www.pkvonsgenoegencoevorden.nl
SUMMARY:Keistadshow
DESCRIPTION:
URL:https://www.pkvonsgenoegencoevorden.nl/index.php/event/keistadshow-2-2/
LOCATION:Amersfoort\, Trompetstraat 3\, Amsersfoort\, Utrecht\, 3822 CK\, Nederland
CATEGORIES:Landelijk
ORGANIZER;CN="SAO":MAILTO:keistadshow@sierduif.nl
END:VEVENT
BEGIN:VEVENT
DTSTART;TZID=Europe/Amsterdam:20241114T160000
DTEND;TZID=Europe/Amsterdam:20241116T160000
DTSTAMP:20260425T174231
CREATED:20240318T192532Z
LAST-MODIFIED:20240318T192532Z
UID:1462-1731600000-1731772800@www.pkvonsgenoegencoevorden.nl
SUMMARY:Sierduivenshow Noord-Nederland
DESCRIPTION:
URL:https://www.pkvonsgenoegencoevorden.nl/index.php/event/sierduivenshow-noord-nederland-3/
LOCATION:Sneek\, Lange Veemarktstraat 11\, Sneek\, Friesland\, 8601ET\, Nederland
CATEGORIES:Landelijk
END:VEVENT
BEGIN:VEVENT
DTSTART;TZID=Europe/Amsterdam:20240118T080000
DTEND;TZID=Europe/Amsterdam:20240120T170000
DTSTAMP:20260425T174231
CREATED:20230525T142658Z
LAST-MODIFIED:20230717T203142Z
UID:1093-1705564800-1705770000@www.pkvonsgenoegencoevorden.nl
SUMMARY:Dierenparade Noordshow
DESCRIPTION:Nadere informatie volgt.
URL:https://www.pkvonsgenoegencoevorden.nl/index.php/event/dierenparade-noordshow-2/
LOCATION:Hardenberg\, Engergieweg 2\, Hardenberg\, Overijssel\, 7772 TV\, Nederland
CATEGORIES:Landelijk
ORGANIZER;CN="Noordshow":MAILTO:secretaris@noordshow.nl
END:VEVENT
BEGIN:VEVENT
DTSTART;TZID=Europe/Amsterdam:20240112T080000
DTEND;TZID=Europe/Amsterdam:20240113T170000
DTSTAMP:20260425T174231
CREATED:20230525T141825Z
LAST-MODIFIED:20230717T203121Z
UID:1091-1705046400-1705165200@www.pkvonsgenoegencoevorden.nl
SUMMARY:Sierduivenshow Zuid-Nederland
DESCRIPTION:Nadere informatie volgt.
URL:https://www.pkvonsgenoegencoevorden.nl/index.php/event/sierduivenshow-zuid-nederland-2/
LOCATION:Waalwijk\, Drunenseweg 23\, Waalwijk\, Noord-Brabant\, 5143NE\, Nederland
CATEGORIES:Landelijk
END:VEVENT
BEGIN:VEVENT
DTSTART;TZID=Europe/Amsterdam:20231214T080000
DTEND;TZID=Europe/Amsterdam:20231216T170000
DTSTAMP:20260425T174231
CREATED:20230525T141308Z
LAST-MODIFIED:20231114T151313Z
UID:1087-1702540800-1702746000@www.pkvonsgenoegencoevorden.nl
SUMMARY:Gelderlandshow
DESCRIPTION:De Gelderlandshow 2023 zal worden gehouden op donderdag 14 t/m zaterdag 16 december in de Jan Massinkhal in Nijmegen.
URL:https://www.pkvonsgenoegencoevorden.nl/index.php/event/gelderlandshow-2/
LOCATION:Nijmegen\, Nieuwe Dukenburgseweg 5\, Nijmegen\, Gelderland\, 6534AD\, Nederland
CATEGORIES:Landelijk
END:VEVENT
BEGIN:VEVENT
DTSTART;TZID=Europe/Amsterdam:20231123T080000
DTEND;TZID=Europe/Amsterdam:20231125T170000
DTSTAMP:20260425T174231
CREATED:20230525T140616Z
LAST-MODIFIED:20230927T163912Z
UID:1083-1700726400-1700931600@www.pkvonsgenoegencoevorden.nl
SUMMARY:Keistadshow
DESCRIPTION:De Keistadshow zal dit jaar op een andere locatie worden gehouden. In verband met de verkiezingen wordt sporthal De Zielhorst helaas ingericht als stembureau\, maar de organisatie is er in geslaagd om op korte termijn in Sporthal Midland aan de Zangvogelweg in Amersfoort een nieuwe locatie te vinden. Let dus even op dat u straks in november naar de goede locatie rijdt voor onze clubshow.
URL:https://www.pkvonsgenoegencoevorden.nl/index.php/event/keistadshow-2/
LOCATION:midland\, Zangvogelweg 138\, Amersfoort\, Utrecht\, 3815DP\, Nederland
CATEGORIES:Landelijk
ORGANIZER;CN="SAO":MAILTO:keistadshow@sierduif.nl
END:VEVENT
BEGIN:VEVENT
DTSTART;TZID=Europe/Amsterdam:20231103T080000
DTEND;TZID=Europe/Amsterdam:20231104T170000
DTSTAMP:20260425T174231
CREATED:20230525T135933Z
LAST-MODIFIED:20230717T202844Z
UID:1079-1698998400-1699117200@www.pkvonsgenoegencoevorden.nl
SUMMARY:Sierduivenshow Noord-Nederland
DESCRIPTION:Nadere informatie volgt
URL:https://www.pkvonsgenoegencoevorden.nl/index.php/event/sierduivenshow-noord-nederland-2/
LOCATION:Sneek\, Lange Veemarktstraat 11\, Sneek\, Friesland\, 8601ET\, Nederland
CATEGORIES:Landelijk
END:VEVENT
BEGIN:VEVENT
DTSTART;VALUE=DATE:20231014
DTEND;VALUE=DATE:20231015
DTSTAMP:20260425T174231
CREATED:20230525T133727Z
LAST-MODIFIED:20230717T202703Z
UID:1063-1697241600-1697327999@www.pkvonsgenoegencoevorden.nl
SUMMARY:Jongdierendag / Clubdag OHM
DESCRIPTION:Nadere informatie volgt.
URL:https://www.pkvonsgenoegencoevorden.nl/index.php/event/jongdierendag-clubdag-ohm/
LOCATION:Voorst\, Schoolstraat 14\, Voorst\, Gelderland\, 7383CG\, Nederland
CATEGORIES:Landelijk
END:VEVENT
BEGIN:VEVENT
DTSTART;VALUE=DATE:20230119
DTEND;VALUE=DATE:20230123
DTSTAMP:20260425T174231
CREATED:20221103T184608Z
LAST-MODIFIED:20230525T143018Z
UID:949-1674090000-1674349199@www.pkvonsgenoegencoevorden.nl
SUMMARY:Dierenparade Noordshow
DESCRIPTION:
URL:https://www.pkvonsgenoegencoevorden.nl/index.php/event/dierenparade-noordshow/
LOCATION:Hardenberg\, Engergieweg 2\, Hardenberg\, Overijssel\, 7772 TV\, Nederland
CATEGORIES:Landelijk
END:VEVENT
BEGIN:VEVENT
DTSTART;VALUE=DATE:20230114
DTEND;VALUE=DATE:20230330
DTSTAMP:20260425T174231
CREATED:20221103T184243Z
LAST-MODIFIED:20230525T143019Z
UID:946-1673658000-1680055199@www.pkvonsgenoegencoevorden.nl
SUMMARY:Sierduivenshow Zuid-Nederland
DESCRIPTION:
URL:https://www.pkvonsgenoegencoevorden.nl/index.php/event/sierduivenshow-zuid-nederland/
LOCATION:Waalwijk\, Drunenseweg 23\, Waalwijk\, Noord-Brabant\, 5143NE\, Nederland
CATEGORIES:Landelijk
END:VEVENT
BEGIN:VEVENT
DTSTART;VALUE=DATE:20221215
DTEND;VALUE=DATE:20221219
DTSTAMP:20260425T174231
CREATED:20221103T183808Z
LAST-MODIFIED:20230525T143021Z
UID:943-1671066000-1671325199@www.pkvonsgenoegencoevorden.nl
SUMMARY:Gelderlandshow
DESCRIPTION:
URL:https://www.pkvonsgenoegencoevorden.nl/index.php/event/gelderlandshow/
LOCATION:Nijmegen\, Nieuwe Dukenburgseweg 5\, Nijmegen\, Gelderland\, 6534AD\, Nederland
CATEGORIES:Landelijk
END:VEVENT
BEGIN:VEVENT
DTSTART;VALUE=DATE:20221124
DTEND;VALUE=DATE:20221128
DTSTAMP:20260425T174231
CREATED:20221103T183344Z
LAST-MODIFIED:20230525T143021Z
UID:940-1669251600-1669510799@www.pkvonsgenoegencoevorden.nl
SUMMARY:Keistadshow
DESCRIPTION:
URL:https://www.pkvonsgenoegencoevorden.nl/index.php/event/keistadshow/
LOCATION:Amersfoort\, Trompetstraat 3\, Amsersfoort\, Utrecht\, 3822 CK\, Nederland
CATEGORIES:Landelijk
END:VEVENT
BEGIN:VEVENT
DTSTART;VALUE=DATE:20221111
DTEND;VALUE=DATE:20221114
DTSTAMP:20260425T174231
CREATED:20221103T183013Z
LAST-MODIFIED:20230525T143023Z
UID:936-1668128400-1668301199@www.pkvonsgenoegencoevorden.nl
SUMMARY:Sierduivenshow Noord-Nederland
DESCRIPTION:
URL:https://www.pkvonsgenoegencoevorden.nl/index.php/event/sierduivenshow-noord-nederland/
LOCATION:Drachten\, Oprijlaan 3\, Drachten\, Friesland\, 9205 BZ\, Nederland
CATEGORIES:Landelijk
END:VEVENT
END:VCALENDAR