BEGIN:VCALENDAR
VERSION:2.0
PRODID:-//PKV &quot;Ons Genoegen&quot;  - ECPv6.15.20//NONSGML v1.0//EN
CALSCALE:GREGORIAN
METHOD:PUBLISH
X-WR-CALNAME:PKV &quot;Ons Genoegen&quot; 
X-ORIGINAL-URL:https://www.pkvonsgenoegencoevorden.nl
X-WR-CALDESC:Evenementen voor PKV &quot;Ons Genoegen&quot; 
REFRESH-INTERVAL;VALUE=DURATION:PT1H
X-Robots-Tag:noindex
X-PUBLISHED-TTL:PT1H
BEGIN:VTIMEZONE
TZID:Europe/Amsterdam
BEGIN:DAYLIGHT
TZOFFSETFROM:+0100
TZOFFSETTO:+0200
TZNAME:CEST
DTSTART:20240331T010000
END:DAYLIGHT
BEGIN:STANDARD
TZOFFSETFROM:+0200
TZOFFSETTO:+0100
TZNAME:CET
DTSTART:20241027T010000
END:STANDARD
BEGIN:DAYLIGHT
TZOFFSETFROM:+0100
TZOFFSETTO:+0200
TZNAME:CEST
DTSTART:20250330T010000
END:DAYLIGHT
BEGIN:STANDARD
TZOFFSETFROM:+0200
TZOFFSETTO:+0100
TZNAME:CET
DTSTART:20251026T010000
END:STANDARD
BEGIN:DAYLIGHT
TZOFFSETFROM:+0100
TZOFFSETTO:+0200
TZNAME:CEST
DTSTART:20260329T010000
END:DAYLIGHT
BEGIN:STANDARD
TZOFFSETFROM:+0200
TZOFFSETTO:+0100
TZNAME:CET
DTSTART:20261025T010000
END:STANDARD
END:VTIMEZONE
BEGIN:VEVENT
DTSTART;TZID=Europe/Amsterdam:20251218T080000
DTEND;TZID=Europe/Amsterdam:20251220T170000
DTSTAMP:20260426T021149
CREATED:20250827T102117Z
LAST-MODIFIED:20250827T102117Z
UID:1746-1766044800-1766250000@www.pkvonsgenoegencoevorden.nl
SUMMARY:Gelderlandshow
DESCRIPTION:
URL:https://www.pkvonsgenoegencoevorden.nl/index.php/event/gelderlandshow-3/
LOCATION:Nijmegen\, Nieuwe Dukenburgseweg 5\, Nijmegen\, Gelderland\, 6534AD\, Nederland
CATEGORIES:Landelijk
END:VEVENT
END:VCALENDAR